BEGIN:VCALENDAR
VERSION:2.0
PRODID:EventSprout
BEGIN:VTIMEZONE
TZID:UTC
BEGIN:STANDARD
DTSTART:20250725T165943
TZOFFSETFROM:+0000
TZOFFSETTO:+0000
END:STANDARD
END:VTIMEZONE
BEGIN:VEVENT
UID:69e7acff238ad
DTSTAMP:20260421T165943Z
SUMMARY:Soar & Shore Airshow 2026
DESCRIPTION:See details on EventSprout: https://www.eventsprout.com/event/h
 ga-acas-2026
LOCATION:124 Park Place\, Atlantic City\, NJ 08401
URL:https://www.eventsprout.com/event/hga-acas-2026
DTSTART:20260529T175339Z
DTEND:20260531T175339Z
END:VEVENT
END:VCALENDAR