BEGIN:VCALENDAR
VERSION:2.0
PRODID:EventSprout
BEGIN:VTIMEZONE
TZID:UTC
BEGIN:STANDARD
DTSTART:20250726T085456
TZOFFSETFROM:+0000
TZOFFSETTO:+0000
END:STANDARD
END:VTIMEZONE
BEGIN:VEVENT
UID:69e88ce0ee8ae
DTSTAMP:20260422T085456Z
SUMMARY:2026 Tri City Water Follies NEW! Tent Camping
DESCRIPTION:See details on EventSprout: https://www.eventsprout.com/event/2
 026-tcwf-tent-camping
LOCATION:Columbia Park\, Kennewick\, WA 99336
URL:https://www.eventsprout.com/event/2026-tcwf-tent-camping
DTSTART:20260724T110000Z
DTEND:20260727T010000Z
END:VEVENT
END:VCALENDAR