BEGIN:VCALENDAR
VERSION:2.0
PRODID:EventSprout
BEGIN:VTIMEZONE
TZID:UTC
BEGIN:STANDARD
DTSTART:20250724T082714
TZOFFSETFROM:+0000
TZOFFSETTO:+0000
END:STANDARD
END:VTIMEZONE
BEGIN:VEVENT
UID:69e5e3624a127
DTSTAMP:20260420T082714Z
SUMMARY:2026 Tri City Water Follies Special Viewing Areas
DESCRIPTION:See details on EventSprout: https://www.eventsprout.com/event/2
 026-tcwf-special-viewing-areas
LOCATION:Columbia River\, Kennewick\, WA 99336
URL:https://www.eventsprout.com/event/2026-tcwf-special-viewing-areas
DTSTART:20260724T130000Z
DTEND:20260727T010000Z
END:VEVENT
END:VCALENDAR