BEGIN:VCALENDAR
VERSION:2.0
PRODID:EventSprout
BEGIN:VTIMEZONE
TZID:UTC
BEGIN:STANDARD
DTSTART:20250724T155831
TZOFFSETFROM:+0000
TZOFFSETTO:+0000
END:STANDARD
END:VTIMEZONE
BEGIN:VEVENT
UID:69e64d272d11c
DTSTAMP:20260420T155831Z
SUMMARY:2026 Alaska Airlines Seafair Torchlight Parade Entry Application
DESCRIPTION:See details on EventSprout: https://www.eventsprout.com/event/2
 026-seafair-torchlight-parade-entry-application
LOCATION:TBD\, Seattle\, WA 98101
URL:https://www.eventsprout.com/event/2026-seafair-torchlight-parade-entry-
 application
DTSTART:20260725T230000Z
DTEND:20260726T045900Z
END:VEVENT
END:VCALENDAR