BEGIN:VCALENDAR
VERSION:2.0
PRODID:EventSprout
BEGIN:VTIMEZONE
TZID:UTC
BEGIN:STANDARD
DTSTART:20250726T083047
TZOFFSETFROM:+0000
TZOFFSETTO:+0000
END:STANDARD
END:VTIMEZONE
BEGIN:VEVENT
UID:69e887378b61f
DTSTAMP:20260422T083047Z
SUMMARY:2026 Seafair Log Boom
DESCRIPTION:See details on EventSprout: https://www.eventsprout.com/event/2
 026-seafair-log-boom
LOCATION:Seattle\, Stan Sayres Pits\, Seattle\, WA 98118
URL:https://www.eventsprout.com/event/2026-seafair-log-boom
DTSTART:20260731T130000Z
DTEND:20260803T010000Z
END:VEVENT
END:VCALENDAR