BEGIN:VCALENDAR
VERSION:2.0
PRODID:EventSprout
BEGIN:VTIMEZONE
TZID:UTC
BEGIN:STANDARD
DTSTART:20250725T165814
TZOFFSETFROM:+0000
TZOFFSETTO:+0000
END:STANDARD
END:VTIMEZONE
BEGIN:VEVENT
UID:69e7aca65697e
DTSTAMP:20260421T165814Z
SUMMARY:2026 Seafair Kickoff Celebration presented by Bank of America
DESCRIPTION:See details on EventSprout: https://www.eventsprout.com/event/2
 026-seafair-kickoff
LOCATION:Pier 62 - 1951 Alaskan Way\, Seattle\, 98101\, Un
URL:https://www.eventsprout.com/event/2026-seafair-kickoff
DTSTART:20260601T170000Z
DTEND:20260601T190000Z
END:VEVENT
END:VCALENDAR