BEGIN:VCALENDAR
VERSION:2.0
PRODID:EventSprout
BEGIN:VTIMEZONE
TZID:UTC
BEGIN:STANDARD
DTSTART:20250725T165814
TZOFFSETFROM:+0000
TZOFFSETTO:+0000
END:STANDARD
END:VTIMEZONE
BEGIN:VEVENT
UID:69e7aca619410
DTSTAMP:20260421T165814Z
SUMMARY:2026 Seafair Car Show Presented by Dicks Restaurant Group - Car Reg
 istration
DESCRIPTION:See details on EventSprout: https://www.eventsprout.com/event/2
 026-seafair-car-show-registration
LOCATION:
URL:https://www.eventsprout.com/event/2026-seafair-car-show-registration
DTSTART:20260801T122800Z
DTEND:20260803T002700Z
END:VEVENT
END:VCALENDAR